BEGIN:VCALENDAR
VERSION:2.0
PRODID:-//Ocean Institute - ECPv5.15.0//NONSGML v1.0//EN
CALSCALE:GREGORIAN
METHOD:PUBLISH
X-WR-CALNAME:Ocean Institute
X-ORIGINAL-URL:https://oceaninstitute.org
X-WR-CALDESC:Events for Ocean Institute
REFRESH-INTERVAL;VALUE=DURATION:PT1H
X-Robots-Tag:noindex
X-PUBLISHED-TTL:PT1H
BEGIN:VTIMEZONE
TZID:America/Los_Angeles
BEGIN:DAYLIGHT
TZOFFSETFROM:-0800
TZOFFSETTO:-0700
TZNAME:PDT
DTSTART:20250309T100000
END:DAYLIGHT
BEGIN:STANDARD
TZOFFSETFROM:-0700
TZOFFSETTO:-0800
TZNAME:PST
DTSTART:20251102T090000
END:STANDARD
END:VTIMEZONE
BEGIN:VEVENT
DTSTART;TZID=America/Los_Angeles:20250125T103000
DTEND;TZID=America/Los_Angeles:20250125T133000
DTSTAMP:20260421T094612
CREATED:20240604T174608Z
LAST-MODIFIED:20241209T233547Z
UID:49860-1737801000-1737811800@oceaninstitute.org
SUMMARY:Squid Dissections
DESCRIPTION:Squid Dissections\n			\n			\n				\n				\n				\n				\n			\n				\n				\n			\n				\n				\n				\n				\n				\n				\n				\n				\n				\n				\n				\n				\n				\n				\n				\n				\n				\n				Squid Dissections\n			\n				\n				\n				\n				\n				Add-on experience for General Admission! \nDive into a hands-on experience suitable for all levels of curiosity with our squid dissections! Join our expert guides who will lead you through an exploration of anatomy and adaptations. Each dissection is 30 minutes long. \nEvery dissector requires their own ticket and may be accompanied by 1 additional person. Each dissector will receive their own squid to dissect. Note: Children under 18 months do not require their own ticket to accompany a dissector. \nDissections will occur at 10:30 am\, 11:30 am\, and 1:30 pm. \nAdd-on Price: $5 \nMust have a General Admission ticket to participate. Add on experience ticket during check out. \n			\n				Tickets\n			\n			\n				\n				\n				\n				\n				\n				\n				\n				\n				\n				\n			\n			\n				\n				\n				\n				\n			\n				\n				\n			\n				\n				\n				\n				\n				\n				\n				\n				\n				\n				\n				\n				\n				\n				\n				\n				\n				\n				Click here for our Refund and Ticket Transfer Policy.
URL:https://oceaninstitute.org/event/squid-dissections-2-2024-09-29-2024-11-03/2025-01-25/
END:VEVENT
BEGIN:VEVENT
DTSTART;TZID=America/Los_Angeles:20250125T120000
DTEND;TZID=America/Los_Angeles:20250125T123500
DTSTAMP:20260421T094612
CREATED:20241209T233035Z
LAST-MODIFIED:20250722T053246Z
UID:52022-1737806400-1737808500@oceaninstitute.org
SUMMARY:Sea Star Feeding
DESCRIPTION:Sea Star Feeding\n			\n			\n				\n				\n				\n				\n			\n				\n				\n			\n				\n				\n				\n				\n				\n				\n				\n				\n				\n				\n				\n				\n				\n				\n				\n				\n				\n				Sea Star Feeding\n			\n				\n				\n				\n				\n				General Admission add-on experience! \nHave you ever wanted to hand-feed a sea star? Join us for this interactive feeding experience where you can prepare their food alongside our staff and hand feed a sea star with this up-close encounter you won’t forget! \nEvery feeder requires their own ticket and may be accompanied by 1 additional person. Children under 18 months do not require their own ticket to accompany a feeder. \nAdd-on Price: $10 \nGeneral Admission ticket purchase is required. Add experience to your cart at checkout! \n			\n				Tickets\n			\n			\n				\n				\n				\n				\n				\n				\n				\n				\n				\n				\n			\n			\n				\n				\n				\n				\n			\n				\n				\n			\n				\n				\n				\n				\n				\n				\n				\n				\n				\n				\n				\n				\n				\n				\n				\n				\n				\n				Click here for our Refund and Ticket Transfer Policy.
URL:https://oceaninstitute.org/event/sea-star-feeding-2025-01-25/
CATEGORIES:Holidays
END:VEVENT
BEGIN:VEVENT
DTSTART;TZID=America/Los_Angeles:20250125T123000
DTEND;TZID=America/Los_Angeles:20250125T143000
DTSTAMP:20260421T094612
CREATED:20241203T221240Z
LAST-MODIFIED:20250131T200754Z
UID:51706-1737808200-1737815400@oceaninstitute.org
SUMMARY:Tidepool Hike
DESCRIPTION:Explore the world between tides!\n			\n			\n				\n				\n				\n				\n			\n				\n				\n				\n				\n				\n				\n				\n				\n				\n				\n				Join the Ocean Institute for a tidepool hike led by one of our expert naturalists.\nThe hike will take us into the rocky Marine Conservation Area located directly behind the Ocean Institute. Families can explore the area and search for snails\, crabs\, sea stars\, and other animals that make the tidepools their home. The winter months are the best time to explore these magical marine ecosystems!\nWhat to Expect: \nHike Difficulty Rating: Moderate\, 1 – 1.5 mile round trip. \nPlease be prepared for rocky\, uneven\, and slick terrain for the entire hike. \nDress: Closed-toed\, Closed-heeled sturdy shoes are required. We recommend sunscreen\, light layers\, and water. \n			\n				\n				\n				\n				\n				Pricing: \nAdults: $15\nChild (19 months* – 13 y.o): $15\n*This hike is not recommended for children younger than four years old \n			\n				Tickets
URL:https://oceaninstitute.org/event/tidepool-hike-3/2025-01-25/
END:VEVENT
END:VCALENDAR