BEGIN:VCALENDAR
VERSION:2.0
PRODID:-//Ocean Institute - ECPv5.15.0//NONSGML v1.0//EN
CALSCALE:GREGORIAN
METHOD:PUBLISH
X-WR-CALNAME:Ocean Institute
X-ORIGINAL-URL:https://oceaninstitute.org
X-WR-CALDESC:Events for Ocean Institute
REFRESH-INTERVAL;VALUE=DURATION:PT1H
X-Robots-Tag:noindex
X-PUBLISHED-TTL:PT1H
BEGIN:VTIMEZONE
TZID:America/Los_Angeles
BEGIN:DAYLIGHT
TZOFFSETFROM:-0800
TZOFFSETTO:-0700
TZNAME:PDT
DTSTART:20250309T100000
END:DAYLIGHT
BEGIN:STANDARD
TZOFFSETFROM:-0700
TZOFFSETTO:-0800
TZNAME:PST
DTSTART:20251102T090000
END:STANDARD
END:VTIMEZONE
BEGIN:VEVENT
DTSTART;TZID=America/Los_Angeles:20250309T090000
DTEND;TZID=America/Los_Angeles:20250309T110000
DTSTAMP:20260425T032027
CREATED:20250124T193917Z
LAST-MODIFIED:20250924T000336Z
UID:52670-1741510800-1741518000@oceaninstitute.org
SUMMARY:Community Beach Cleanup - Stand Up to Trash
DESCRIPTION:Community Beach Cleanup\nin partnership with \n \n			\n			\n				\n				\n				\n				\n			\n				\n				\n				\n				\n				\n				\n				\n				\n				\n				\n				\n			\n			\n				\n				\n				\n				\n				\n				\n				\n				\n				\n				Join us for a day of fun on the water\, beach and surrounding areas to cleanup our natural world.  \nNew theme every month with a guest speaker on the Maddie James Seaside Learning Center Historical Wharf \n9:00am-10:30am Beach Cleanup \n10:30am Free Lunch & Learn at Ocean Institute \n			\n				RVSP
URL:https://oceaninstitute.org/event/community-beach-cleanup-stand-up-to-trash-2/2025-03-09/
END:VEVENT
BEGIN:VEVENT
DTSTART;TZID=America/Los_Angeles:20250309T103000
DTEND;TZID=America/Los_Angeles:20250309T133000
DTSTAMP:20260425T032027
CREATED:20240604T174608Z
LAST-MODIFIED:20241209T233605Z
UID:49873-1741516200-1741527000@oceaninstitute.org
SUMMARY:Squid Dissections
DESCRIPTION:Squid Dissections\n			\n			\n				\n				\n				\n				\n			\n				\n				\n			\n				\n				\n				\n				\n				\n				\n				\n				\n				\n				\n				\n				\n				\n				\n				\n				\n				\n				Squid Dissections\n			\n				\n				\n				\n				\n				Add-on experience for General Admission! \nDive into a hands-on experience suitable for all levels of curiosity with our squid dissections! Join our expert guides who will lead you through an exploration of anatomy and adaptations. Each dissection is 30 minutes long. \nEvery dissector requires their own ticket and may be accompanied by 1 additional person. Each dissector will receive their own squid to dissect. Note: Children under 18 months do not require their own ticket to accompany a dissector. \nDissections will occur at 10:30 am\, 11:30 am\, and 1:30 pm. \nAdd-on Price: $5 \nMust have a General Admission ticket to participate. Add on experience ticket during check out. \n			\n				Tickets\n			\n			\n				\n				\n				\n				\n				\n				\n				\n				\n				\n				\n			\n			\n				\n				\n				\n				\n			\n				\n				\n			\n				\n				\n				\n				\n				\n				\n				\n				\n				\n				\n				\n				\n				\n				\n				\n				\n				\n				Click here for our Refund and Ticket Transfer Policy.
URL:https://oceaninstitute.org/event/squid-dissections-2-2024-09-29-2024-11-03/2025-03-09/
END:VEVENT
BEGIN:VEVENT
DTSTART;TZID=America/Los_Angeles:20250309T110000
DTEND;TZID=America/Los_Angeles:20250309T160000
DTSTAMP:20260425T032027
CREATED:20250128T202702Z
LAST-MODIFIED:20250306T183826Z
UID:52872-1741518000-1741536000@oceaninstitute.org
SUMMARY:Dockside Drafts
DESCRIPTION:Dockside Drafts at Ocean Institute\nMarch 8 and 9\n11:00am – 4:00pm \nDuring the Festival of Whales weekend\, make your way to Dockside Drafts at the Ocean Institute’s Maddie James Seaside Learning Center and Historical Wharf. This scenic waterfront beer event is the perfect stop to enjoy craft brews while soaking in the sights and sounds of the festival. \nAs you explore the festivities\, enjoy the water-front views alongside exclusive craft beer\, and a variety of refreshing options from local breweries. \nParticipating Breweries: Honey Pot Meadery\, Project Social\, Station Craft and more! \nDon’t miss this one-of-a-kind festival experience—dockside brews with unbeatable views! \n 
URL:https://oceaninstitute.org/event/dockside-drafts/2025-03-09/
END:VEVENT
BEGIN:VEVENT
DTSTART;TZID=America/Los_Angeles:20250309T120000
DTEND;TZID=America/Los_Angeles:20250309T123500
DTSTAMP:20260425T032027
CREATED:20241209T233035Z
LAST-MODIFIED:20250722T113244Z
UID:52036-1741521600-1741523700@oceaninstitute.org
SUMMARY:Sea Star Feeding
DESCRIPTION:Sea Star Feeding\n			\n			\n				\n				\n				\n				\n			\n				\n				\n			\n				\n				\n				\n				\n				\n				\n				\n				\n				\n				\n				\n				\n				\n				\n				\n				\n				\n				Sea Star Feeding\n			\n				\n				\n				\n				\n				General Admission add-on experience! \nHave you ever wanted to hand-feed a sea star? Join us for this interactive feeding experience where you can prepare their food alongside our staff and hand feed a sea star with this up-close encounter you won’t forget! \nEvery feeder requires their own ticket and may be accompanied by 1 additional person. Children under 18 months do not require their own ticket to accompany a feeder. \nAdd-on Price: $10 \nGeneral Admission ticket purchase is required. Add experience to your cart at checkout! \n			\n				Tickets\n			\n			\n				\n				\n				\n				\n				\n				\n				\n				\n				\n				\n			\n			\n				\n				\n				\n				\n			\n				\n				\n			\n				\n				\n				\n				\n				\n				\n				\n				\n				\n				\n				\n				\n				\n				\n				\n				\n				\n				Click here for our Refund and Ticket Transfer Policy.
URL:https://oceaninstitute.org/event/sea-star-feeding-2025-03-09/
CATEGORIES:Holidays
END:VEVENT
END:VCALENDAR