BEGIN:VCALENDAR
VERSION:2.0
PRODID:-//Ocean Institute - ECPv5.15.0//NONSGML v1.0//EN
CALSCALE:GREGORIAN
METHOD:PUBLISH
X-WR-CALNAME:Ocean Institute
X-ORIGINAL-URL:https://oceaninstitute.org
X-WR-CALDESC:Events for Ocean Institute
REFRESH-INTERVAL;VALUE=DURATION:PT1H
X-Robots-Tag:noindex
X-PUBLISHED-TTL:PT1H
BEGIN:VTIMEZONE
TZID:America/Los_Angeles
BEGIN:DAYLIGHT
TZOFFSETFROM:-0800
TZOFFSETTO:-0700
TZNAME:PDT
DTSTART:20250309T100000
END:DAYLIGHT
BEGIN:STANDARD
TZOFFSETFROM:-0700
TZOFFSETTO:-0800
TZNAME:PST
DTSTART:20251102T090000
END:STANDARD
TZID:UTC
BEGIN:STANDARD
TZOFFSETFROM:+0000
TZOFFSETTO:+0000
TZNAME:UTC
DTSTART:20250101T000000
END:STANDARD
END:VTIMEZONE
BEGIN:VEVENT
DTSTART;TZID=America/Los_Angeles:20250517T063000
DTEND;TZID=America/Los_Angeles:20250517T183000
DTSTAMP:20260425T062115
CREATED:20250320T165325Z
LAST-MODIFIED:20250327T160535Z
UID:53492-1747463400-1747506600@oceaninstitute.org
SUMMARY:Girls in Ocean Science Field Day
DESCRIPTION:Girls in Ocean Science Field Day\n			\n			\n				\n				\n				\n				\n			\n				\n				\n			\n				\n				\n				\n				\n				\n				\n				\n				\n				\n				\n				\n				\n				\n				\n				\n				\n				\n				2025 Girls in Ocean Science Field Day\nSaturday\, May 17  |  6:30 am – 6:30 pm  |  Lab Tours at three locations!\n			\n			\n				\n				\n				\n				\n			\n				\n				\n				\n				\n				\n				\n				\n				\n				\n				\n				\n			\n				\n				\n				\n				\n				\n			\n			\n				\n				\n				\n				\n				\n				\n				\n				\n				\n				About\n			\n				\n				\n				\n				\n				Connecting Influential Female Scientists with the Next Generation of Ocean Ambassadors\n			\n				\n				\n				\n				\n				Ocean Institute’s annual Girls in Ocean Science teen conference introduces middle school and high school girls to the diverse career opportunities in ocean science. This event connects professionals in the field with the next generation of ocean stewards. This year\, we are kicking off our first annual GIOS Field Day\, where we bring the students to the professionals! This event aims to immerse the students in a professional setting\, seeing the scientists in action\, as well as mitigate the transit of immobile equipment and reduce any limited expression of the profession itself. \nDuring each tour\, a representative of the organization will give an overview of the day-to-day functions and walk through some of the equipment or resources that are specific to this space and commonly used there. \nField Day will include visits to the following locations: \n\nMolina Animal Care Center at the Aquarium of the Pacific\nUCI Samueli School of Engineering Research Labs\nOrange Coast College Dennis Kelly Aquarium\n\n			\n				Tickets\n			\n			\n				\n				\n				\n				\n			\n				\n				\n				\n				\n				\n				\n			\n				\n				\n				\n				\n			\n				\n				\n				\n				\n				\n				\n				\n				\n				\n				\n				Field Day Tour Locations\n			\n			\n				\n				\n				\n				\n			\n				\n				\n				\n				\n				\n				\n				\n				\n				\n				\n				Molina Animal Care Center at the Aquarium of the Pacific\n			\n				\n				\n				\n				\n				The 14\,000-square-foot Molina Animal Care Center at the Aquarium of the Pacific provides enhanced healthcare to the aquarium’s animals\, as well as opportunities for guests to view veterinary medicine in action. This veterinary hospital includes holding and quarantine tanks for fishes\, marine mammals\, and birds\, an 1\,800-square-foot examination area\, a reptile room\, advanced digital equipment\, interactive kiosks\, and live video feeds for children. One exhibit found here displays coral and sponges that contain compounds that may hold cures for human diseases! Molina Animal Care Center reaches beyond the confines of a place to care for animals. In the spirit of interactive learning\, it allows visitors to watch surgeries\, animal examinations\, and even interact with the Aquarium’s veterinary staff on occasion! \n			\n			\n				\n				\n				\n				\n				\n				\n				\n				\n				\n				\n			\n			\n				\n				\n				\n				\n			\n				\n				\n				\n				\n				\n				\n				\n				\n				\n				\n				UCI Samueli School of Engineering Research Labs\n			\n				\n				\n				\n				\n				Managing water and wastewater systems requires a lot of energy\, and producing and distributing energy can impact the environment in many ways. This field focuses on solving these connected challenges by improving water treatment and supply for cities\, farms\, energy production\, and environmental needs. It also explores sustainable ways to manage urban stormwater and enhance chemical and microbiological water treatment processes. Additionally\, it covers innovative methods for generating and distributing energy. A key focus is understanding and reducing greenhouse gas emissions from water treatment and energy production. \n			\n			\n				\n				\n				\n				\n				\n				\n				\n				\n				\n				\n			\n			\n				\n				\n				\n				\n			\n				\n				\n				\n				\n				\n				\n				\n				\n				\n				\n				Dennis Kelly Public Aquarium at Orange Coast College \n			\n				\n				\n				\n				\n				The Dennis Kelly Public Aquarium at Orange Coast College is one of the cornerstones of the Marine Science Department. This versatile resource is a unique training and community education facility where students get hands-on experience working with a remarkably diverse collection of aquatic organisms. The OCC Aquarium is a student-run aquarium that features facilitated peer education and helps provide a depth of experiential learning unrivaled by traditional lectures\, textbooks\, photos\, and videos. Students working towards the Certificate in Aquarium Science play an active role in the design\, maintenance\, and management of the OCC Aquarium. \n			\n			\n				\n				\n				\n				\n				\n				\n				\n				\n				\n				\n			\n			\n				\n				\n				\n				\n			\n				\n				\n			\n				\n				\n				\n				\n				\n				\n				\n				\n				\n				\n				\n				\n				\n				\n				\n				\n				\n				\n			\n			\n				\n				\n				\n				\n				\n				\n				\n				\n				\n				\n			\n			\n				\n				\n				\n				\n				\n				\n				\n				\n				\n				\n			\n			\n				\n				\n				\n				\n			\n				\n				\n			\n				\n				\n				\n				\n				\n				\n				\n				\n				\n				\n				\n				\n				\n				\n				\n				\n				\n				Frequently Asked Questions \n			\n				\n				\n				\n				\n				\n				\n				\n				\n				\n				I have heard of Girls in Ocean Science\, but what is Field Day?\n				Ocean Institute is excited to launch our first ever\, Girls in Ocean Science Field Day! \nGirls in Ocean Science – This is an annual\, one-day\, teen conference at Ocean Institute\, inviting middle school and high school students to meet\, learn from\, and conduct research with female professionals in fields relating to ocean science. \nField Day – This is our first event\, where we flip the script and take our middle school and high school guests to these professional workspaces for behind-the-scenes tours. This year\, we are starting with three different locations for the day\, all local to Orange County. We all meet at Ocean Institute\, check our guests in\, then hop on the bus to head out to our first stop. We spend the day touring these locations together\, eat lunch together\, then head back to Ocean Institute before parting for the day. \nIf you have ever attended a Girls in Ocean Science conference or a Stoked on Science conference\, you’re going to love Field Day! \n			\n				\n				\n				\n				\n				What is the start and end time of the conference?\n				Schedule: 6:30 am – 6:30 pm \nThis includes check-in and check-out. \n			\n				\n				\n				\n				\n				Can participants leave the conference early?\n				We encourage participants to stay for the full duration of the conference. Participants will spend the day together traveling to and from our three Stops. If a participant needs to leave early\, please notify us ahead of time so we can accommodate your request. \n			\n				\n				\n				\n				\n				What do participants need to bring?\n				Please bring: \n\nclosed-toe\, closed-heel shoes\njacket\nhat\nsunglasses\nsnack\nreusable water bottle\nsunscreen\n\nParticipants will receive Lunch and a GIOS T-shirt. \n			\n				\n				\n				\n				\n				Will food be served at the conference?\n				Yes\, lunch and some snacks will be provided. We will not be providing breakfast or dinner. Please bring water\, snacks\, and let us know of any dietary restrictions to be aware of in your registration form. \n			\n				\n				\n				\n				\n				Will parents\, teachers\, chaperones\, etc. be allowed on the bus for the program?\n				Parents\, teachers\, chaperones\, etc. will not be allowed on the bus during this event. This program will only include participants\, Ocean Institute staff\, and our guest speakers. \n			\n				\n				\n				\n				\n				What if the participant needs medication during the program?\n				Participant Medication: \nAll medications must come in their original container with dosage and schedule indicated. Prescription medications must be accompanied by a physician’s note* verifying the medication\, dosage\, and schedule. Over the counter medications must have a note from the legal guardian verifying mediation\, dosage\, and schedule. \nPlease ensure any medication for motion sickness is administered before arrival arrives OR sent in the original container with a note from the legal guardian verifying the medication\, dosage\, and schedule. \n  \n*By “physician’s note\,” we are referring to the medication\, dosage\, and schedule that is typically printed on a sticker and applied to the container. We do not require you to get a handwritten note from your physician for a medication that was already prescribed to you. \n			\n				\n				\n				\n				\n				Who can pick up my participant?\n				Authorized Pick-up List \nTo ensure the safety of our participants\, we follow the following procedures for Check-Out. \nParticipant must be signed in and out by an adult (18 yrs or older). Participant will ONLY be released to listed authorized persons. \nValid photo identification (such as a Driver’s License\, passport\, etc) is required to release to any individual\, including parents\, guardians\, relatives\, and emergency contacts. If participant has a valid driver’s license\, they are able to sign themselves out.  \n			\n			\n			\n				\n				\n				\n				\n			\n				\n				\n			\n				\n				\n				\n				\n				\n				\n				\n				\n				\n				\n				\n				\n				\n				\n				\n				\n				\n				Girls in Ocean Science is proudly sponsored by:
URL:https://oceaninstitute.org/event/girls-in-ocean-science-field-day/
CATEGORIES:GIOS
END:VEVENT
BEGIN:VEVENT
DTSTART;TZID=America/Los_Angeles:20250517T103000
DTEND;TZID=America/Los_Angeles:20250517T133000
DTSTAMP:20260425T062116
CREATED:20240604T174608Z
LAST-MODIFIED:20241209T233618Z
UID:49892-1747477800-1747488600@oceaninstitute.org
SUMMARY:Squid Dissections
DESCRIPTION:Squid Dissections\n			\n			\n				\n				\n				\n				\n			\n				\n				\n			\n				\n				\n				\n				\n				\n				\n				\n				\n				\n				\n				\n				\n				\n				\n				\n				\n				\n				Squid Dissections\n			\n				\n				\n				\n				\n				Add-on experience for General Admission! \nDive into a hands-on experience suitable for all levels of curiosity with our squid dissections! Join our expert guides who will lead you through an exploration of anatomy and adaptations. Each dissection is 30 minutes long. \nEvery dissector requires their own ticket and may be accompanied by 1 additional person. Each dissector will receive their own squid to dissect. Note: Children under 18 months do not require their own ticket to accompany a dissector. \nDissections will occur at 10:30 am\, 11:30 am\, and 1:30 pm. \nAdd-on Price: $5 \nMust have a General Admission ticket to participate. Add on experience ticket during check out. \n			\n				Tickets\n			\n			\n				\n				\n				\n				\n				\n				\n				\n				\n				\n				\n			\n			\n				\n				\n				\n				\n			\n				\n				\n			\n				\n				\n				\n				\n				\n				\n				\n				\n				\n				\n				\n				\n				\n				\n				\n				\n				\n				Click here for our Refund and Ticket Transfer Policy.
URL:https://oceaninstitute.org/event/squid-dissections-2-2024-09-29-2024-11-03/2025-05-17/
END:VEVENT
BEGIN:VEVENT
DTSTART;TZID=America/Los_Angeles:20250517T120000
DTEND;TZID=America/Los_Angeles:20250517T123500
DTSTAMP:20260425T062116
CREATED:20241209T233035Z
LAST-MODIFIED:20241209T233035Z
UID:52289-1747483200-1747485300@oceaninstitute.org
SUMMARY:Sea Star Feeding
DESCRIPTION:Sea Star Feeding\n			\n			\n				\n				\n				\n				\n			\n				\n				\n			\n				\n				\n				\n				\n				\n				\n				\n				\n				\n				\n				\n				\n				\n				\n				\n				\n				\n				Sea Star Feeding\n			\n				\n				\n				\n				\n				General Admission add-on experience! \nHave you ever wanted to hand-feed a sea star? Join us for this interactive feeding experience where you can prepare their food alongside our staff and hand feed a sea star with this up-close encounter you won’t forget! \nEvery feeder requires their own ticket and may be accompanied by 1 additional person. Children under 18 months do not require their own ticket to accompany a feeder. \nAdd-on Price: $10 \nGeneral Admission ticket purchase is required. Add experience to your cart at checkout! \n			\n				Tickets\n			\n			\n				\n				\n				\n				\n				\n				\n				\n				\n				\n				\n			\n			\n				\n				\n				\n				\n			\n				\n				\n			\n				\n				\n				\n				\n				\n				\n				\n				\n				\n				\n				\n				\n				\n				\n				\n				\n				\n				Click here for our Refund and Ticket Transfer Policy.
URL:https://oceaninstitute.org/event/sea-star-feeding-2025-01-20-2025-05-17/
CATEGORIES:Holidays
END:VEVENT
BEGIN:VEVENT
DTSTART;TZID=America/Los_Angeles:20250517T120000
DTEND;TZID=America/Los_Angeles:20250517T123500
DTSTAMP:20260425T062116
CREATED:20241209T233035Z
LAST-MODIFIED:20250722T200318Z
UID:55834-1747483200-1747485300@oceaninstitute.org
SUMMARY:Sea Star Feeding
DESCRIPTION:Sea Star Feeding\n			\n			\n				\n				\n				\n				\n			\n				\n				\n			\n				\n				\n				\n				\n				\n				\n				\n				\n				\n				\n				\n				\n				\n				\n				\n				\n				\n				Sea Star Feeding\n			\n				\n				\n				\n				\n				General Admission add-on experience! \nHave you ever wanted to hand-feed a sea star? Join us for this interactive feeding experience where you can prepare their food alongside our staff and hand feed a sea star with this up-close encounter you won’t forget! \nEvery feeder requires their own ticket and may be accompanied by 1 additional person. Children under 18 months do not require their own ticket to accompany a feeder. \nAdd-on Price: $10 \nGeneral Admission ticket purchase is required. Add experience to your cart at checkout! \n			\n				Tickets\n			\n			\n				\n				\n				\n				\n				\n				\n				\n				\n				\n				\n			\n			\n				\n				\n				\n				\n			\n				\n				\n			\n				\n				\n				\n				\n				\n				\n				\n				\n				\n				\n				\n				\n				\n				\n				\n				\n				\n				Click here for our Refund and Ticket Transfer Policy.
URL:https://oceaninstitute.org/event/sea-star-feeding-2025-05-17/
CATEGORIES:Holidays
END:VEVENT
BEGIN:VEVENT
DTSTART;TZID=UTC:20250517T140000
DTEND;TZID=UTC:20250517T170000
DTSTAMP:20260425T062116
CREATED:20241217T192956Z
LAST-MODIFIED:20250718T193253Z
UID:52160-1747490400-1747501200@oceaninstitute.org
SUMMARY:Sail on Spirit of Dana Point
DESCRIPTION:Set sail aboard the schooner Spirit of Dana Point and experience California from the perspective of an early tallship explorer. Join the crew to help raise sail\, handle lines\, and steer the ship\, or simply sit back\, relax and enjoy the majesty of sailing the seas aboard a tallship.\nMust be 4 y.o or older to sail.\nTickets: $65\n			\n			\n				\n				\n				\n				\n				\n				\n				\n				\n				\n				\n			\n			\n				\n				\n				\n				\n			\n				\n				\n				\n				\n				\n				\n				BOOK HERE\n			\n			\n				\n				\n				\n				\n			\n				\n				\n				\n				\n				\n				\n				\n				\n				\n				\n				About the Spirit of Dana Point \nThe Spirit of Dana Point is a traditionally built replica of a 1770s privateer schooner used during the American Revolution. These ships were known for their speed and were used for smuggling. The ship is 118 feet long with a rig height of 100 feet… and 5\,000 square feet of sail! \nIt was Dennis Holland’s dream to build an accurate replica from the period when America fought for independence. Armed with talent\, determination\, little money and plans he purchased from the Smithsonian Institution\, he laid the keel in his Orange County yard on May 2\, 1970. Thirteen years later\, this fast privateer was launched and continues to sail the ocean. Everywhere you look on board is the craftsmanship and pride of early America. \nFormerly the Pilgrim of Newport\, the re-named Spirit of Dana Point is an excellent teaching platform where students directly experience life at sea as it has been for hundreds of years.  The 118-ft. schooner is used for living history and at-sea maritime programs throughout the year. \nThe Spirit of Dana Point is also available for public and private charters\, coastal sails\, corporate team building\, and filming opportunities. \nFor private charters\, events or wedding onboard the Spirit of Dana Point please e-mail: events@oceaninstitute.org\n			\n			\n				\n				\n				\n				\n			\n				\n				\n			\n				\n				\n				\n				\n				\n				\n				\n				\n				\n				\n				\n				\n				\n				\n				\n				\n				\n				Click here for our Refund and Ticket Transfer Policy.
URL:https://oceaninstitute.org/event/sail-on-spirit-of-dana-point/2025-05-17/
LOCATION:Ocean Institute\, 24200 Dana Point Harbor Dr\, Dana Point\, CA\, 92629\, United States
END:VEVENT
END:VCALENDAR