BEGIN:VCALENDAR
VERSION:2.0
PRODID:-//Ocean Institute - ECPv5.15.0//NONSGML v1.0//EN
CALSCALE:GREGORIAN
METHOD:PUBLISH
X-WR-CALNAME:Ocean Institute
X-ORIGINAL-URL:https://oceaninstitute.org
X-WR-CALDESC:Events for Ocean Institute
REFRESH-INTERVAL;VALUE=DURATION:PT1H
X-Robots-Tag:noindex
X-PUBLISHED-TTL:PT1H
BEGIN:VTIMEZONE
TZID:America/Los_Angeles
BEGIN:DAYLIGHT
TZOFFSETFROM:-0800
TZOFFSETTO:-0700
TZNAME:PDT
DTSTART:20250309T100000
END:DAYLIGHT
BEGIN:STANDARD
TZOFFSETFROM:-0700
TZOFFSETTO:-0800
TZNAME:PST
DTSTART:20251102T090000
END:STANDARD
END:VTIMEZONE
BEGIN:VEVENT
DTSTART;VALUE=DATE:20251224
DTEND;VALUE=DATE:20251225
DTSTAMP:20260420T015036
CREATED:20250630T194635Z
LAST-MODIFIED:20251103T173301Z
UID:57409-1766534400-1766620799@oceaninstitute.org
SUMMARY:Closed
DESCRIPTION:We are closed today. Please navigate back to our calendar for upcoming events. \n			\n			\n				\n				\n				\n				\n			\n				\n				\n				\n				\n				\n				\n				Calendar
URL:https://oceaninstitute.org/event/closed-2/2025-12-24/
END:VEVENT
END:VCALENDAR